BEGIN:VCALENDAR
VERSION:2.0
PRODID:-//Charlottesville-UVA-Albemarle Emergency Communications Center - ECPv6.15.20//NONSGML v1.0//EN
CALSCALE:GREGORIAN
METHOD:PUBLISH
X-WR-CALNAME:Charlottesville-UVA-Albemarle Emergency Communications Center
X-ORIGINAL-URL:https://cua911.gov
X-WR-CALDESC:Events for Charlottesville-UVA-Albemarle Emergency Communications Center
REFRESH-INTERVAL;VALUE=DURATION:PT1H
X-Robots-Tag:noindex
X-PUBLISHED-TTL:PT1H
BEGIN:VTIMEZONE
TZID:America/New_York
BEGIN:DAYLIGHT
TZOFFSETFROM:-0500
TZOFFSETTO:-0400
TZNAME:EDT
DTSTART:20190310T070000
END:DAYLIGHT
BEGIN:STANDARD
TZOFFSETFROM:-0400
TZOFFSETTO:-0500
TZNAME:EST
DTSTART:20191103T060000
END:STANDARD
BEGIN:DAYLIGHT
TZOFFSETFROM:-0500
TZOFFSETTO:-0400
TZNAME:EDT
DTSTART:20200308T070000
END:DAYLIGHT
BEGIN:STANDARD
TZOFFSETFROM:-0400
TZOFFSETTO:-0500
TZNAME:EST
DTSTART:20201101T060000
END:STANDARD
BEGIN:DAYLIGHT
TZOFFSETFROM:-0500
TZOFFSETTO:-0400
TZNAME:EDT
DTSTART:20210314T070000
END:DAYLIGHT
BEGIN:STANDARD
TZOFFSETFROM:-0400
TZOFFSETTO:-0500
TZNAME:EST
DTSTART:20211107T060000
END:STANDARD
END:VTIMEZONE
BEGIN:VEVENT
DTSTART;TZID=America/New_York:20200818T140000
DTEND;TZID=America/New_York:20200818T160000
DTSTAMP:20260425T232712
CREATED:20220624T201728Z
LAST-MODIFIED:20220701T173541Z
UID:526-1597759200-1597766400@cua911.gov
SUMMARY:ECC Management Board Quarterly Meeting
DESCRIPTION:Meeting Materials:\nECC Management Board – 8/18/2020 Meeting Packet [PDF] \nMeeting Recording:\nECC Management Board – 8/18/2020 Meeting Recording [Streaming Video\, External Link] \n\nAgenda: 2020.08.18 ECC Board Draft Agenda
URL:https://cua911.gov/meeting/ecc-management-board-quarterly-meeting-081820/
END:VEVENT
END:VCALENDAR