BEGIN:VCALENDAR
VERSION:2.0
PRODID:-//Charlottesville-UVA-Albemarle Emergency Communications Center - ECPv6.15.20//NONSGML v1.0//EN
CALSCALE:GREGORIAN
METHOD:PUBLISH
X-WR-CALNAME:Charlottesville-UVA-Albemarle Emergency Communications Center
X-ORIGINAL-URL:https://cua911.gov
X-WR-CALDESC:Events for Charlottesville-UVA-Albemarle Emergency Communications Center
REFRESH-INTERVAL;VALUE=DURATION:PT1H
X-Robots-Tag:noindex
X-PUBLISHED-TTL:PT1H
BEGIN:VTIMEZONE
TZID:America/New_York
BEGIN:DAYLIGHT
TZOFFSETFROM:-0500
TZOFFSETTO:-0400
TZNAME:EDT
DTSTART:20240310T070000
END:DAYLIGHT
BEGIN:STANDARD
TZOFFSETFROM:-0400
TZOFFSETTO:-0500
TZNAME:EST
DTSTART:20241103T060000
END:STANDARD
BEGIN:DAYLIGHT
TZOFFSETFROM:-0500
TZOFFSETTO:-0400
TZNAME:EDT
DTSTART:20250309T070000
END:DAYLIGHT
BEGIN:STANDARD
TZOFFSETFROM:-0400
TZOFFSETTO:-0500
TZNAME:EST
DTSTART:20251102T060000
END:STANDARD
BEGIN:DAYLIGHT
TZOFFSETFROM:-0500
TZOFFSETTO:-0400
TZNAME:EDT
DTSTART:20260308T070000
END:DAYLIGHT
BEGIN:STANDARD
TZOFFSETFROM:-0400
TZOFFSETTO:-0500
TZNAME:EST
DTSTART:20261101T060000
END:STANDARD
END:VTIMEZONE
BEGIN:VEVENT
DTSTART;TZID=America/New_York:20250212T090000
DTEND;TZID=America/New_York:20250212T110000
DTSTAMP:20260425T114424
CREATED:20241219T152507Z
LAST-MODIFIED:20250212T173600Z
UID:2039-1739350800-1739358000@cua911.gov
SUMMARY:ECC Management Board - Regular Meeting
DESCRIPTION:Public Meeting\nUPDATE 2/10/25: Responsive to the state of emergency declared for the impending winter storm\, this meeting has been updated from in-person to all-virtual. Revised meeting notice and public access via Zoom are linked below.  \nAgenda (PDF): \n2025.02.12 ECC Board Regular Meeting Agenda_rev \nMeeting Materials (PDF): \n2025.02.12 ECC Board Regular Meeting Materials \nFY26_ECC_Budget_Request \nFY24 Financial Report Cville-Albemarle-UVA ECC – Final \nECC Managment Board Meeting 2-12-2025 – Meeting PowerPoint \nPublic Access: \nPlease click the link below to join via Zoom Webinar: \nhttps://us02web.zoom.us/j/82717979551?pwd=4yrlmWwr8FkCv3nkUsWWxuNl5Sjv8l.1\nPasscode: 2306 \nJoin via audio:\n+1 929 205 6099 US (New York)\n+1 301 715 8592 US (Washington DC)\n+1 305 224 1968 US\n+1 309 205 3325 US\n+1 312 626 6799 US (Chicago) \nWebinar ID: 827 1797 9551\nInternational numbers available: https://us02web.zoom.us/u/kbq1l3VKop
URL:https://cua911.gov/meeting/20250212/
LOCATION:Virtual
END:VEVENT
END:VCALENDAR