BEGIN:VCALENDAR
VERSION:2.0
PRODID:-//Charlottesville-UVA-Albemarle Emergency Communications Center - ECPv6.15.20//NONSGML v1.0//EN
CALSCALE:GREGORIAN
METHOD:PUBLISH
X-ORIGINAL-URL:https://cua911.gov
X-WR-CALDESC:Events for Charlottesville-UVA-Albemarle Emergency Communications Center
REFRESH-INTERVAL;VALUE=DURATION:PT1H
X-Robots-Tag:noindex
X-PUBLISHED-TTL:PT1H
BEGIN:VTIMEZONE
TZID:America/New_York
BEGIN:DAYLIGHT
TZOFFSETFROM:-0500
TZOFFSETTO:-0400
TZNAME:EDT
DTSTART:20240310T070000
END:DAYLIGHT
BEGIN:STANDARD
TZOFFSETFROM:-0400
TZOFFSETTO:-0500
TZNAME:EST
DTSTART:20241103T060000
END:STANDARD
BEGIN:DAYLIGHT
TZOFFSETFROM:-0500
TZOFFSETTO:-0400
TZNAME:EDT
DTSTART:20250309T070000
END:DAYLIGHT
BEGIN:STANDARD
TZOFFSETFROM:-0400
TZOFFSETTO:-0500
TZNAME:EST
DTSTART:20251102T060000
END:STANDARD
BEGIN:DAYLIGHT
TZOFFSETFROM:-0500
TZOFFSETTO:-0400
TZNAME:EDT
DTSTART:20260308T070000
END:DAYLIGHT
BEGIN:STANDARD
TZOFFSETFROM:-0400
TZOFFSETTO:-0500
TZNAME:EST
DTSTART:20261101T060000
END:STANDARD
END:VTIMEZONE
BEGIN:VEVENT
DTSTART;TZID=America/New_York:20250129T130000
DTEND;TZID=America/New_York:20250129T140000
DTSTAMP:20260425T113129
CREATED:20250127T201418Z
LAST-MODIFIED:20250212T172948Z
UID:2061-1738155600-1738159200@cua911.gov
SUMMARY:ECC Management Board - Budget and Finance Committee
DESCRIPTION:Agenda (PDF): \n2025.01.29 ECC Budget and Finance Cmte Draft Agenda \nMeeting Materials (PDF): \n2025.01.29 FY26 Budget Request New Initiatives \nPublic Access: \nPlease click the link below to join via Zoom Webinar: \nhttps://us02web.zoom.us/j/86561956521?pwd=I2jqiqmkvrvlY1xBtZAI9ObuSI15os.1\nPasscode: 2306 \nPhone one-tap:\n+13126266799\,\,86561956521# US (Chicago)\n+16469313860\,\,86561956521# US \nJoin via audio:\n+1 312 626 6799 US (Chicago)\n+1 646 931 3860 US\n+1 929 205 6099 US (New York)\n+1 301 715 8592 US (Washington DC) \nWebinar ID: 865 6195 6521
URL:https://cua911.gov/meeting/20250129/
LOCATION:Virtual
END:VEVENT
END:VCALENDAR