BEGIN:VCALENDAR
VERSION:2.0
PRODID:-//Charlottesville-UVA-Albemarle Emergency Communications Center - ECPv6.15.20//NONSGML v1.0//EN
CALSCALE:GREGORIAN
METHOD:PUBLISH
X-WR-CALNAME:Charlottesville-UVA-Albemarle Emergency Communications Center
X-ORIGINAL-URL:https://cua911.gov
X-WR-CALDESC:Events for Charlottesville-UVA-Albemarle Emergency Communications Center
REFRESH-INTERVAL;VALUE=DURATION:PT1H
X-Robots-Tag:noindex
X-PUBLISHED-TTL:PT1H
BEGIN:VTIMEZONE
TZID:America/New_York
BEGIN:DAYLIGHT
TZOFFSETFROM:-0500
TZOFFSETTO:-0400
TZNAME:EDT
DTSTART:20230312T070000
END:DAYLIGHT
BEGIN:STANDARD
TZOFFSETFROM:-0400
TZOFFSETTO:-0500
TZNAME:EST
DTSTART:20231105T060000
END:STANDARD
BEGIN:DAYLIGHT
TZOFFSETFROM:-0500
TZOFFSETTO:-0400
TZNAME:EDT
DTSTART:20240310T070000
END:DAYLIGHT
BEGIN:STANDARD
TZOFFSETFROM:-0400
TZOFFSETTO:-0500
TZNAME:EST
DTSTART:20241103T060000
END:STANDARD
BEGIN:DAYLIGHT
TZOFFSETFROM:-0500
TZOFFSETTO:-0400
TZNAME:EDT
DTSTART:20250309T070000
END:DAYLIGHT
BEGIN:STANDARD
TZOFFSETFROM:-0400
TZOFFSETTO:-0500
TZNAME:EST
DTSTART:20251102T060000
END:STANDARD
END:VTIMEZONE
BEGIN:VEVENT
DTSTART;TZID=America/New_York:20241101T100000
DTEND;TZID=America/New_York:20241101T110000
DTSTAMP:20260425T152406
CREATED:20241029T212621Z
LAST-MODIFIED:20241029T213116Z
UID:2006-1730455200-1730458800@cua911.gov
SUMMARY:ECC Management Board - Executive Committee Meeting
DESCRIPTION:Public Meeting\nAgenda (PDF): \n2024.11.01 ECC Exec Cmte Draft Agenda \nMeeting Materials (PDF): \nThere are no advanced meeting materials. \nPublic Access: \nPlease click the link below to join via Zoom Webinar: \nhttps://us02web.zoom.us/j/89532924223?pwd=eG6UcZR15CDlpcDe6gj3jVTHAAvLHB.1\nPasscode: 875590 \nOr One tap mobile :\n+19292056099\,\,89532924223# US (New York)\n+13017158592\,\,89532924223# US (Washington DC) \nOr Telephone:\nDial(for higher quality\, dial a number based on your current location):\n+1 929 205 6099 US (New York)\n+1 301 715 8592 US (Washington DC)\n+1 305 224 1968 US\n+1 309 205 3325 US\n+1 312 626 6799 US (Chicago)
URL:https://cua911.gov/meeting/20241101/
LOCATION:Virtual
END:VEVENT
END:VCALENDAR