BEGIN:VCALENDAR
VERSION:2.0
PRODID:-//Charlottesville-UVA-Albemarle Emergency Communications Center - ECPv6.15.20//NONSGML v1.0//EN
CALSCALE:GREGORIAN
METHOD:PUBLISH
X-ORIGINAL-URL:https://cua911.gov
X-WR-CALDESC:Events for Charlottesville-UVA-Albemarle Emergency Communications Center
REFRESH-INTERVAL;VALUE=DURATION:PT1H
X-Robots-Tag:noindex
X-PUBLISHED-TTL:PT1H
BEGIN:VTIMEZONE
TZID:America/New_York
BEGIN:DAYLIGHT
TZOFFSETFROM:-0500
TZOFFSETTO:-0400
TZNAME:EDT
DTSTART:20230312T070000
END:DAYLIGHT
BEGIN:STANDARD
TZOFFSETFROM:-0400
TZOFFSETTO:-0500
TZNAME:EST
DTSTART:20231105T060000
END:STANDARD
BEGIN:DAYLIGHT
TZOFFSETFROM:-0500
TZOFFSETTO:-0400
TZNAME:EDT
DTSTART:20240310T070000
END:DAYLIGHT
BEGIN:STANDARD
TZOFFSETFROM:-0400
TZOFFSETTO:-0500
TZNAME:EST
DTSTART:20241103T060000
END:STANDARD
BEGIN:DAYLIGHT
TZOFFSETFROM:-0500
TZOFFSETTO:-0400
TZNAME:EDT
DTSTART:20250309T070000
END:DAYLIGHT
BEGIN:STANDARD
TZOFFSETFROM:-0400
TZOFFSETTO:-0500
TZNAME:EST
DTSTART:20251102T060000
END:STANDARD
END:VTIMEZONE
BEGIN:VEVENT
DTSTART;TZID=America/New_York:20240925T130000
DTEND;TZID=America/New_York:20240925T140000
DTSTAMP:20260425T181215
CREATED:20240920T121551Z
LAST-MODIFIED:20240920T121551Z
UID:1962-1727269200-1727272800@cua911.gov
SUMMARY:ECC Management Board - Facility Planning Committee Meeting
DESCRIPTION:Public Meeting\nAgenda (PDF): 2024.09.25 ECC Facility Planning Cmte Draft Agenda \nMeeting Materials:  \nThere are no advance materials for this meeting.
URL:https://cua911.gov/meeting/20240925/
LOCATION:ECC Conference Room\, 2306 Ivy Rd.\, Charlottesville\, VA\, 22903\, United States
END:VEVENT
END:VCALENDAR